Package: TPP2D Version: 1.22.0 Command: chmod a+r TPP2D -R && F:\biocbuild\bbs-3.20-bioc\R\bin\R.exe CMD build --keep-empty-dirs --no-resave-data TPP2D StartedAt: 2025-03-31 22:24:32 -0400 (Mon, 31 Mar 2025) EndedAt: 2025-03-31 22:25:25 -0400 (Mon, 31 Mar 2025) EllapsedTime: 52.6 seconds RetCode: 0 Status: OK PackageFile: TPP2D_1.22.0.tar.gz PackageFileSize: 2.135 MiB