Package: TPP2D Version: 1.22.0 Command: /Library/Frameworks/R.framework/Resources/bin/R CMD build --keep-empty-dirs --no-resave-data TPP2D StartedAt: 2025-03-31 22:38:15 -0400 (Mon, 31 Mar 2025) EndedAt: 2025-03-31 22:39:31 -0400 (Mon, 31 Mar 2025) EllapsedTime: 76.1 seconds RetCode: 0 Status: OK PackageFile: TPP2D_1.22.0.tar.gz PackageFileSize: 2.294 MiB