Package: TPP2D Version: 1.22.0 Command: /Library/Frameworks/R.framework/Resources/bin/R CMD check --install=check:TPP2D.install-out.txt --library=/Library/Frameworks/R.framework/Resources/library --no-vignettes --timings TPP2D_1.22.0.tar.gz StartedAt: 2025-04-02 11:38:50 -0400 (Wed, 02 Apr 2025) EndedAt: 2025-04-02 11:40:48 -0400 (Wed, 02 Apr 2025) EllapsedTime: 117.9 seconds RetCode: 0 Status: OK CheckDir: TPP2D.Rcheck Warnings: 0