Package: TPP2D Version: 1.22.0 Command: /Library/Frameworks/R.framework/Resources/bin/R CMD build --keep-empty-dirs --no-resave-data TPP2D StartedAt: 2025-04-01 09:21:16 -0400 (Tue, 01 Apr 2025) EndedAt: 2025-04-01 09:21:53 -0400 (Tue, 01 Apr 2025) EllapsedTime: 37.3 seconds RetCode: 0 Status: OK PackageFile: TPP2D_1.22.0.tar.gz PackageFileSize: 2.294 MiB