Package: TOAST Version: 1.20.0 Command: rm -rf TOAST.buildbin-libdir && mkdir TOAST.buildbin-libdir && /Users/biocbuild/BBS/utils/build-universal.sh TOAST_1.20.0.tar.gz /Library/Frameworks/R.framework/Resources/bin/R TOAST.buildbin-libdir StartedAt: 2025-04-01 12:55:48 -0400 (Tue, 01 Apr 2025) EndedAt: 2025-04-01 12:56:47 -0400 (Tue, 01 Apr 2025) EllapsedTime: 59.3 seconds RetCode: 0 Status: OK PackageFile: TOAST_1.20.0.tgz PackageFileSize: 3.763 MiB