Package: TOAST Version: 1.20.0 Command: /Library/Frameworks/R.framework/Resources/bin/R CMD INSTALL TOAST StartedAt: 2025-03-31 15:37:26 -0400 (Mon, 31 Mar 2025) EndedAt: 2025-03-31 15:37:55 -0400 (Mon, 31 Mar 2025) EllapsedTime: 28.2 seconds RetCode: 0 Status: OK