Package: TOAST Version: 1.20.0 Command: /Library/Frameworks/R.framework/Resources/bin/R CMD check --install=check:TOAST.install-out.txt --library=/Library/Frameworks/R.framework/Resources/library --no-vignettes --timings TOAST_1.20.0.tar.gz StartedAt: 2025-04-02 11:32:35 -0400 (Wed, 02 Apr 2025) EndedAt: 2025-04-02 11:37:44 -0400 (Wed, 02 Apr 2025) EllapsedTime: 308.5 seconds RetCode: 0 Status: OK CheckDir: TOAST.Rcheck Warnings: 0