Package: TOAST Version: 1.20.0 Command: /Library/Frameworks/R.framework/Resources/bin/R CMD build --keep-empty-dirs --no-resave-data TOAST StartedAt: 2025-04-01 09:18:14 -0400 (Tue, 01 Apr 2025) EndedAt: 2025-04-01 09:21:32 -0400 (Tue, 01 Apr 2025) EllapsedTime: 197.5 seconds RetCode: 0 Status: OK PackageFile: TOAST_1.20.0.tar.gz PackageFileSize: 3.625 MiB