Package: TMixClust Version: 1.28.0 Command: /home/biocbuild/R/R/bin/R CMD build --keep-empty-dirs --no-resave-data TMixClust StartedAt: 2025-04-01 03:12:24 -0000 (Tue, 01 Apr 2025) EndedAt: 2025-04-01 03:12:53 -0000 (Tue, 01 Apr 2025) EllapsedTime: 29.1 seconds RetCode: 0 Status: OK PackageFile: TMixClust_1.28.0.tar.gz PackageFileSize: 492.5 KiB