Package: TMSig Version: 1.0.0 Command: /home/biocbuild/R/R/bin/R CMD build --keep-empty-dirs --no-resave-data TMSig StartedAt: 2025-04-01 03:12:32 -0000 (Tue, 01 Apr 2025) EndedAt: 2025-04-01 03:13:39 -0000 (Tue, 01 Apr 2025) EllapsedTime: 67.1 seconds RetCode: 0 Status: OK PackageFile: TMSig_1.0.0.tar.gz PackageFileSize: 2.999 MiB