Package: TMSig Version: 1.0.0 Command: F:\biocbuild\bbs-3.20-bioc\R\bin\R.exe CMD INSTALL TMSig StartedAt: 2025-03-31 15:58:08 -0400 (Mon, 31 Mar 2025) EndedAt: 2025-03-31 15:58:35 -0400 (Mon, 31 Mar 2025) EllapsedTime: 27.9 seconds RetCode: 0 Status: OK