Package: TMSig Version: 1.0.0 Command: chmod a+r TMSig -R && F:\biocbuild\bbs-3.20-bioc\R\bin\R.exe CMD build --keep-empty-dirs --no-resave-data TMSig StartedAt: 2025-03-31 22:23:36 -0400 (Mon, 31 Mar 2025) EndedAt: 2025-03-31 22:24:46 -0400 (Mon, 31 Mar 2025) EllapsedTime: 70.4 seconds RetCode: 0 Status: OK PackageFile: TMSig_1.0.0.tar.gz PackageFileSize: 2.588 MiB