Package: TMSig Version: 1.0.0 Command: /Library/Frameworks/R.framework/Resources/bin/R CMD INSTALL TMSig StartedAt: 2025-03-31 15:45:37 -0400 (Mon, 31 Mar 2025) EndedAt: 2025-03-31 15:46:22 -0400 (Mon, 31 Mar 2025) EllapsedTime: 44.4 seconds RetCode: 0 Status: OK