Package: TMSig Version: 1.0.0 Command: /Library/Frameworks/R.framework/Resources/bin/R CMD check --install=check:TMSig.install-out.txt --library=/Library/Frameworks/R.framework/Resources/library --no-vignettes --timings TMSig_1.0.0.tar.gz StartedAt: 2025-04-02 11:30:56 -0400 (Wed, 02 Apr 2025) EndedAt: 2025-04-02 11:33:54 -0400 (Wed, 02 Apr 2025) EllapsedTime: 177.2 seconds RetCode: 0 Status: OK CheckDir: TMSig.Rcheck Warnings: 0