Package: TMSig Version: 1.0.0 Command: /Library/Frameworks/R.framework/Resources/bin/R CMD build --keep-empty-dirs --no-resave-data TMSig StartedAt: 2025-04-01 09:17:51 -0400 (Tue, 01 Apr 2025) EndedAt: 2025-04-01 09:18:52 -0400 (Tue, 01 Apr 2025) EllapsedTime: 60.6 seconds RetCode: 0 Status: OK PackageFile: TMSig_1.0.0.tar.gz PackageFileSize: 3.428 MiB