Package: TIN Version: 1.38.0 Command: rm -rf TIN.buildbin-libdir && mkdir TIN.buildbin-libdir && /Users/biocbuild/BBS/utils/build-universal.sh TIN_1.38.0.tar.gz /Library/Frameworks/R.framework/Resources/bin/R TIN.buildbin-libdir StartedAt: 2025-04-01 12:55:30 -0400 (Tue, 01 Apr 2025) EndedAt: 2025-04-01 12:56:18 -0400 (Tue, 01 Apr 2025) EllapsedTime: 47.4 seconds RetCode: 0 Status: OK PackageFile: TIN_1.38.0.tgz PackageFileSize: 4.566 MiB