Package: TFEA.ChIP Version: 1.26.0 Command: /home/biocbuild/R/R/bin/R CMD check --install=check:TFEA.ChIP.install-out.txt --library=/home/biocbuild/R/R/site-library --no-vignettes --timings TFEA.ChIP_1.26.0.tar.gz StartedAt: 2025-04-01 11:18:24 -0000 (Tue, 01 Apr 2025) EndedAt: 2025-04-01 11:25:55 -0000 (Tue, 01 Apr 2025) EllapsedTime: 450.5 seconds RetCode: 0 Status: OK CheckDir: TFEA.ChIP.Rcheck Warnings: 0