Package: TFEA.ChIP Version: 1.26.0 Command: /home/biocbuild/bbs-3.20-bioc/R/bin/R CMD check --install=check:TFEA.ChIP.install-out.txt --library=/home/biocbuild/bbs-3.20-bioc/R/site-library --timings TFEA.ChIP_1.26.0.tar.gz StartedAt: 2025-04-01 02:54:04 -0400 (Tue, 01 Apr 2025) EndedAt: 2025-04-01 03:00:47 -0400 (Tue, 01 Apr 2025) EllapsedTime: 402.4 seconds RetCode: 0 Status: OK CheckDir: TFEA.ChIP.Rcheck Warnings: 0