Package: TFBSTools Version: 1.44.0 Command: /Library/Frameworks/R.framework/Resources/bin/R CMD check --install=check:TFBSTools.install-out.txt --library=/Library/Frameworks/R.framework/Resources/library --no-vignettes --timings TFBSTools_1.44.0.tar.gz StartedAt: 2025-04-02 11:13:09 -0400 (Wed, 02 Apr 2025) EndedAt: 2025-04-02 11:20:10 -0400 (Wed, 02 Apr 2025) EllapsedTime: 420.8 seconds RetCode: 0 Status: OK CheckDir: TFBSTools.Rcheck Warnings: 0