Package: TFARM Version: 1.28.0 Command: /home/biocbuild/R/R/bin/R CMD check --install=check:TFARM.install-out.txt --library=/home/biocbuild/R/R/site-library --no-vignettes --timings TFARM_1.28.0.tar.gz StartedAt: 2025-04-01 11:18:11 -0000 (Tue, 01 Apr 2025) EndedAt: 2025-04-01 11:20:24 -0000 (Tue, 01 Apr 2025) EllapsedTime: 133.2 seconds RetCode: 0 Status: OK CheckDir: TFARM.Rcheck Warnings: 0