Package: TFARM Version: 1.28.0 Command: F:\biocbuild\bbs-3.20-bioc\R\bin\R.exe CMD INSTALL TFARM StartedAt: 2025-03-31 16:24:30 -0400 (Mon, 31 Mar 2025) EndedAt: 2025-03-31 16:24:56 -0400 (Mon, 31 Mar 2025) EllapsedTime: 26.0 seconds RetCode: 0 Status: OK