Package: TFARM Version: 1.28.0 Command: /Library/Frameworks/R.framework/Resources/bin/R CMD INSTALL TFARM StartedAt: 2025-03-31 15:40:38 -0400 (Mon, 31 Mar 2025) EndedAt: 2025-03-31 15:40:55 -0400 (Mon, 31 Mar 2025) EllapsedTime: 17.6 seconds RetCode: 0 Status: OK