Package: TEQC Version: 4.28.0 Command: /Library/Frameworks/R.framework/Resources/bin/R CMD build --keep-empty-dirs --no-resave-data TEQC StartedAt: 2025-03-31 22:33:15 -0400 (Mon, 31 Mar 2025) EndedAt: 2025-03-31 22:34:13 -0400 (Mon, 31 Mar 2025) EllapsedTime: 57.8 seconds RetCode: 0 Status: OK PackageFile: TEQC_4.28.0.tar.gz PackageFileSize: 643.5 KiB