Package: TENxIO Version: 1.8.2 Command: /Library/Frameworks/R.framework/Resources/bin/R CMD INSTALL TENxIO StartedAt: 2025-03-31 15:19:04 -0400 (Mon, 31 Mar 2025) EndedAt: 2025-03-31 15:20:00 -0400 (Mon, 31 Mar 2025) EllapsedTime: 56.6 seconds RetCode: 0 Status: OK