Package: TEKRABber Version: 1.10.0 Command: /home/biocbuild/R/R/bin/R CMD INSTALL TEKRABber StartedAt: 2025-03-31 20:38:58 -0000 (Mon, 31 Mar 2025) EndedAt: 2025-03-31 20:39:50 -0000 (Mon, 31 Mar 2025) EllapsedTime: 52.0 seconds RetCode: 0 Status: OK