Package: TEKRABber Version: 1.10.0 Command: chmod a+r TEKRABber -R && F:\biocbuild\bbs-3.20-bioc\R\bin\R.exe CMD build --keep-empty-dirs --no-resave-data TEKRABber StartedAt: 2025-03-31 22:19:35 -0400 (Mon, 31 Mar 2025) EndedAt: 2025-03-31 22:21:57 -0400 (Mon, 31 Mar 2025) EllapsedTime: 142.3 seconds RetCode: 0 Status: OK PackageFile: TEKRABber_1.10.0.tar.gz PackageFileSize: 3.44 MiB