Package: TEKRABber Version: 1.10.0 Command: /Library/Frameworks/R.framework/Resources/bin/R CMD build --keep-empty-dirs --no-resave-data TEKRABber StartedAt: 2025-03-31 22:32:54 -0400 (Mon, 31 Mar 2025) EndedAt: 2025-03-31 22:37:16 -0400 (Mon, 31 Mar 2025) EllapsedTime: 262.2 seconds RetCode: 0 Status: OK PackageFile: TEKRABber_1.10.0.tar.gz PackageFileSize: 3.439 MiB