Package: TEKRABber Version: 1.10.0 Command: /Library/Frameworks/R.framework/Resources/bin/R CMD INSTALL TEKRABber StartedAt: 2025-03-31 16:24:27 -0400 (Mon, 31 Mar 2025) EndedAt: 2025-03-31 16:25:12 -0400 (Mon, 31 Mar 2025) EllapsedTime: 44.5 seconds RetCode: 0 Status: OK