Package: TEKRABber Version: 1.10.0 Command: rm -rf TEKRABber.buildbin-libdir && mkdir TEKRABber.buildbin-libdir && /Users/biocbuild/BBS/utils/build-universal.sh TEKRABber_1.10.0.tar.gz /Library/Frameworks/R.framework/Resources/bin/R TEKRABber.buildbin-libdir StartedAt: 2025-04-02 16:36:49 -0400 (Wed, 02 Apr 2025) EndedAt: 2025-04-02 16:37:38 -0400 (Wed, 02 Apr 2025) EllapsedTime: 48.8 seconds RetCode: 0 Status: OK PackageFile: TEKRABber_1.10.0.tgz PackageFileSize: 3.387 MiB