Package: TDbasedUFEadv Version: 1.6.0 Command: /Library/Frameworks/R.framework/Resources/bin/R CMD INSTALL TDbasedUFEadv StartedAt: 2025-03-31 18:13:22 -0400 (Mon, 31 Mar 2025) EndedAt: 2025-03-31 18:13:51 -0400 (Mon, 31 Mar 2025) EllapsedTime: 28.8 seconds RetCode: 0 Status: OK