Package: TDbasedUFEadv Version: 1.6.0 Command: /Library/Frameworks/R.framework/Resources/bin/R CMD build --keep-empty-dirs --no-resave-data TDbasedUFEadv StartedAt: 2025-04-01 09:07:28 -0400 (Tue, 01 Apr 2025) EndedAt: 2025-04-01 09:10:53 -0400 (Tue, 01 Apr 2025) EllapsedTime: 205.0 seconds RetCode: 0 Status: OK PackageFile: TDbasedUFEadv_1.6.0.tar.gz PackageFileSize: 4.019 MiB