Package: TCseq Version: 1.30.0 Command: rm -rf TCseq.buildbin-libdir && mkdir TCseq.buildbin-libdir && F:\biocbuild\bbs-3.20-bioc\R\bin\R.exe CMD INSTALL --build --library=TCseq.buildbin-libdir TCseq_1.30.0.tar.gz StartedAt: 2025-04-01 09:22:20 -0400 (Tue, 01 Apr 2025) EndedAt: 2025-04-01 09:23:09 -0400 (Tue, 01 Apr 2025) EllapsedTime: 48.6 seconds RetCode: 0 Status: OK PackageFile: TCseq_1.30.0.zip PackageFileSize: 739.8 KiB