Package: TCseq Version: 1.30.0 Command: /Library/Frameworks/R.framework/Resources/bin/R CMD build --keep-empty-dirs --no-resave-data TCseq StartedAt: 2025-04-01 09:06:27 -0400 (Tue, 01 Apr 2025) EndedAt: 2025-04-01 09:07:23 -0400 (Tue, 01 Apr 2025) EllapsedTime: 55.4 seconds RetCode: 0 Status: OK PackageFile: TCseq_1.30.0.tar.gz PackageFileSize: 1.114 MiB