Package: TCGAbiolinks Version: 2.34.1 Command: F:\biocbuild\bbs-3.20-bioc\R\bin\R.exe CMD check --no-multiarch --install=check:TCGAbiolinks.install-out.txt --library=F:\biocbuild\bbs-3.20-bioc\R\library --no-vignettes --timings TCGAbiolinks_2.34.1.tar.gz StartedAt: 2025-04-01 06:40:12 -0400 (Tue, 01 Apr 2025) EndedAt: 2025-04-01 06:51:32 -0400 (Tue, 01 Apr 2025) EllapsedTime: 679.8 seconds RetCode: 0 Status: WARNINGS CheckDir: TCGAbiolinks.Rcheck Warnings: 2