Package: TCGAbiolinks Version: 2.34.1 Command: /home/biocbuild/bbs-3.20-bioc/R/bin/R CMD check --install=check:TCGAbiolinks.install-out.txt --library=/home/biocbuild/bbs-3.20-bioc/R/site-library --timings TCGAbiolinks_2.34.1.tar.gz StartedAt: 2025-04-01 02:51:26 -0400 (Tue, 01 Apr 2025) EndedAt: 2025-04-01 03:07:33 -0400 (Tue, 01 Apr 2025) EllapsedTime: 967.0 seconds RetCode: 0 Status: WARNINGS CheckDir: TCGAbiolinks.Rcheck Warnings: 2