Package: TCGAbiolinks Version: 2.34.1 Command: /Library/Frameworks/R.framework/Resources/bin/R CMD check --install=check:TCGAbiolinks.install-out.txt --library=/Library/Frameworks/R.framework/Resources/library --no-vignettes --timings TCGAbiolinks_2.34.1.tar.gz StartedAt: 2025-04-01 10:09:21 -0400 (Tue, 01 Apr 2025) EndedAt: 2025-04-01 10:25:06 -0400 (Tue, 01 Apr 2025) EllapsedTime: 944.6 seconds RetCode: 0 Status: WARNINGS CheckDir: TCGAbiolinks.Rcheck Warnings: 2