Package: TCGAbiolinks Version: 2.34.1 Command: /Library/Frameworks/R.framework/Resources/bin/R CMD build --keep-empty-dirs --no-resave-data TCGAbiolinks StartedAt: 2025-04-01 09:05:26 -0400 (Tue, 01 Apr 2025) EndedAt: 2025-04-01 09:11:54 -0400 (Tue, 01 Apr 2025) EllapsedTime: 388.3 seconds RetCode: 1 Status: ERROR PackageFile: None PackageFileSize: NA