Package: TCC Version: 1.46.0 Command: /Library/Frameworks/R.framework/Resources/bin/R CMD INSTALL TCC StartedAt: 2025-03-31 15:27:25 -0400 (Mon, 31 Mar 2025) EndedAt: 2025-03-31 15:28:31 -0400 (Mon, 31 Mar 2025) EllapsedTime: 65.3 seconds RetCode: 0 Status: OK