Package: SynMut Version: 1.22.0 Command: chmod a+r SynMut -R && F:\biocbuild\bbs-3.20-bioc\R\bin\R.exe CMD build --keep-empty-dirs --no-resave-data SynMut StartedAt: 2025-03-31 22:17:12 -0400 (Mon, 31 Mar 2025) EndedAt: 2025-03-31 22:17:47 -0400 (Mon, 31 Mar 2025) EllapsedTime: 34.5 seconds RetCode: 0 Status: OK PackageFile: SynMut_1.22.0.tar.gz PackageFileSize: 104.5 KiB