Package: SynMut Version: 1.22.0 Command: rm -rf SynMut.buildbin-libdir && mkdir SynMut.buildbin-libdir && F:\biocbuild\bbs-3.20-bioc\R\bin\R.exe CMD INSTALL --build --library=SynMut.buildbin-libdir SynMut_1.22.0.tar.gz StartedAt: 2025-04-01 09:21:36 -0400 (Tue, 01 Apr 2025) EndedAt: 2025-04-01 09:22:13 -0400 (Tue, 01 Apr 2025) EllapsedTime: 36.1 seconds RetCode: 0 Status: OK PackageFile: SynMut_1.22.0.zip PackageFileSize: 320.5 KiB