Package: SynMut Version: 1.22.0 Command: /Library/Frameworks/R.framework/Resources/bin/R CMD build --keep-empty-dirs --no-resave-data SynMut StartedAt: 2025-03-31 22:29:40 -0400 (Mon, 31 Mar 2025) EndedAt: 2025-03-31 22:30:22 -0400 (Mon, 31 Mar 2025) EllapsedTime: 42.2 seconds RetCode: 0 Status: OK PackageFile: SynMut_1.22.0.tar.gz PackageFileSize: 104.7 KiB