Package: SynMut Version: 1.22.0 Command: /Library/Frameworks/R.framework/Resources/bin/R CMD INSTALL SynMut StartedAt: 2025-03-31 15:25:31 -0400 (Mon, 31 Mar 2025) EndedAt: 2025-03-31 15:25:45 -0400 (Mon, 31 Mar 2025) EllapsedTime: 13.4 seconds RetCode: 0 Status: OK