Package: SynExtend Version: 1.18.0 Command: /home/biocbuild/R/R/bin/R CMD INSTALL SynExtend StartedAt: 2025-03-31 20:24:59 -0000 (Mon, 31 Mar 2025) EndedAt: 2025-03-31 20:25:38 -0000 (Mon, 31 Mar 2025) EllapsedTime: 38.4 seconds RetCode: 0 Status: OK