Package: SynExtend Version: 1.18.0 Command: /home/biocbuild/R/R/bin/R CMD build --keep-empty-dirs --no-resave-data SynExtend StartedAt: 2025-04-01 03:04:36 -0000 (Tue, 01 Apr 2025) EndedAt: 2025-04-01 03:05:52 -0000 (Tue, 01 Apr 2025) EllapsedTime: 76.1 seconds RetCode: 0 Status: OK PackageFile: SynExtend_1.18.0.tar.gz PackageFileSize: 2.73 MiB