Package: SynExtend Version: 1.18.0 Command: chmod a+r SynExtend -R && F:\biocbuild\bbs-3.20-bioc\R\bin\R.exe CMD build --keep-empty-dirs --no-resave-data SynExtend StartedAt: 2025-03-31 22:16:54 -0400 (Mon, 31 Mar 2025) EndedAt: 2025-03-31 22:18:43 -0400 (Mon, 31 Mar 2025) EllapsedTime: 109.1 seconds RetCode: 0 Status: OK PackageFile: SynExtend_1.18.0.tar.gz PackageFileSize: 2.699 MiB