Package: SynExtend Version: 1.18.0 Command: /Library/Frameworks/R.framework/Resources/bin/R CMD build --keep-empty-dirs --no-resave-data SynExtend StartedAt: 2025-03-31 22:29:23 -0400 (Mon, 31 Mar 2025) EndedAt: 2025-03-31 22:31:33 -0400 (Mon, 31 Mar 2025) EllapsedTime: 130.5 seconds RetCode: 0 Status: OK PackageFile: SynExtend_1.18.0.tar.gz PackageFileSize: 2.764 MiB