Package: SynExtend Version: 1.18.0 Command: /Library/Frameworks/R.framework/Resources/bin/R CMD check --install=check:SynExtend.install-out.txt --library=/Library/Frameworks/R.framework/Resources/library --no-vignettes --timings SynExtend_1.18.0.tar.gz StartedAt: 2025-04-02 10:54:16 -0400 (Wed, 02 Apr 2025) EndedAt: 2025-04-02 11:03:57 -0400 (Wed, 02 Apr 2025) EllapsedTime: 581.4 seconds RetCode: 0 Status: OK CheckDir: SynExtend.Rcheck Warnings: 0