Package: SynExtend Version: 1.18.0 Command: rm -rf SynExtend.buildbin-libdir && mkdir SynExtend.buildbin-libdir && /Users/biocbuild/BBS/utils/build-universal.sh SynExtend_1.18.0.tar.gz /Library/Frameworks/R.framework/Resources/bin/R SynExtend.buildbin-libdir StartedAt: 2025-04-02 16:35:02 -0400 (Wed, 02 Apr 2025) EndedAt: 2025-04-02 16:35:39 -0400 (Wed, 02 Apr 2025) EllapsedTime: 36.5 seconds RetCode: 0 Status: OK PackageFile: SynExtend_1.18.0.tgz PackageFileSize: 3.545 MiB