Package: SwathXtend Version: 2.28.0 Command: /home/biocbuild/R/R/bin/R CMD INSTALL SwathXtend StartedAt: 2025-03-31 21:06:43 -0000 (Mon, 31 Mar 2025) EndedAt: 2025-03-31 21:06:48 -0000 (Mon, 31 Mar 2025) EllapsedTime: 5.3 seconds RetCode: 0 Status: OK