Package: SurfR Version: 1.2.7 Command: /Library/Frameworks/R.framework/Resources/bin/R CMD build --keep-empty-dirs --no-resave-data SurfR StartedAt: 2025-03-31 22:27:15 -0400 (Mon, 31 Mar 2025) EndedAt: 2025-03-31 22:28:42 -0400 (Mon, 31 Mar 2025) EllapsedTime: 87.1 seconds RetCode: 0 Status: OK PackageFile: SurfR_1.2.7.tar.gz PackageFileSize: 372.6 KiB